Package: scDiagnostics Version: 1.3.0 Command: /Library/Frameworks/R.framework/Resources/bin/R CMD INSTALL scDiagnostics StartedAt: 2025-10-16 15:24:31 -0400 (Thu, 16 Oct 2025) EndedAt: 2025-10-16 15:24:43 -0400 (Thu, 16 Oct 2025) EllapsedTime: 11.5 seconds RetCode: 0 Status: OK