Package: scDiagnostics Version: 1.3.0 Command: /Library/Frameworks/R.framework/Resources/bin/R CMD build --keep-empty-dirs --no-resave-data scDiagnostics StartedAt: 2025-10-16 17:50:14 -0400 (Thu, 16 Oct 2025) EndedAt: 2025-10-16 17:51:47 -0400 (Thu, 16 Oct 2025) EllapsedTime: 93.0 seconds RetCode: 0 Status: OK PackageFile: scDiagnostics_1.3.0.tar.gz PackageFileSize: 3.62 MiB