Package: scDesign3 Version: 1.7.7 Command: /home/biocbuild/R/R/bin/R CMD check --install=check:scDesign3.install-out.txt --library=/home/biocbuild/R/R/site-library --no-vignettes --timings scDesign3_1.7.7.tar.gz StartedAt: 2025-10-17 13:16:00 -0000 (Fri, 17 Oct 2025) EndedAt: 2025-10-17 13:20:41 -0000 (Fri, 17 Oct 2025) EllapsedTime: 281.3 seconds RetCode: 0 Status: OK CheckDir: scDesign3.Rcheck Warnings: 0