Package: scDesign3 Version: 1.8.0 Command: /home/biocbuild/bbs-3.22-bioc/R/bin/R CMD check --install=check:scDesign3.install-out.txt --library=/home/biocbuild/bbs-3.22-bioc/R/site-library --timings scDesign3_1.8.0.tar.gz StartedAt: 2025-11-04 03:42:34 -0500 (Tue, 04 Nov 2025) EndedAt: 2025-11-04 03:46:49 -0500 (Tue, 04 Nov 2025) EllapsedTime: 254.2 seconds RetCode: 0 Status: OK CheckDir: scDesign3.Rcheck Warnings: 0