Package: scDesign3 Version: 1.8.0 Command: /home/biocbuild/bbs-3.22-bioc/R/bin/R CMD build --keep-empty-dirs --no-resave-data --md5 scDesign3 StartedAt: 2025-11-03 19:54:59 -0500 (Mon, 03 Nov 2025) EndedAt: 2025-11-03 19:55:59 -0500 (Mon, 03 Nov 2025) EllapsedTime: 60.1 seconds RetCode: 0 Status: OK PackageFile: scDesign3_1.8.0.tar.gz PackageFileSize: 1.009 MiB