Package: scDesign3 Version: 1.8.0 Command: /Library/Frameworks/R.framework/Resources/bin/R CMD build --keep-empty-dirs --no-resave-data scDesign3 StartedAt: 2025-11-03 17:38:17 -0500 (Mon, 03 Nov 2025) EndedAt: 2025-11-03 17:38:55 -0500 (Mon, 03 Nov 2025) EllapsedTime: 37.4 seconds RetCode: 0 Status: OK PackageFile: scDesign3_1.8.0.tar.gz PackageFileSize: 1.097 MiB