Package: scDesign3 Version: 1.8.0 Command: rm -rf scDesign3.buildbin-libdir && mkdir scDesign3.buildbin-libdir && /Users/biocbuild/BBS/utils/build-universal.sh scDesign3_1.8.0.tar.gz /Library/Frameworks/R.framework/Resources/bin/R scDesign3.buildbin-libdir StartedAt: 2025-11-03 23:20:29 -0500 (Mon, 03 Nov 2025) EndedAt: 2025-11-03 23:20:33 -0500 (Mon, 03 Nov 2025) EllapsedTime: 4.1 seconds RetCode: 0 Status: OK PackageFile: scDesign3_1.8.0.tgz PackageFileSize: 1.24 MiB