Package: scDblFinder Version: 1.23.3 Command: chmod a+r scDblFinder -R && F:\biocbuild\bbs-3.22-bioc\R\bin\R.exe CMD build --keep-empty-dirs --no-resave-data scDblFinder StartedAt: 2025-08-14 23:01:46 -0400 (Thu, 14 Aug 2025) EndedAt: 2025-08-14 23:05:47 -0400 (Thu, 14 Aug 2025) EllapsedTime: 240.6 seconds RetCode: 0 Status: OK PackageFile: scDblFinder_1.23.3.tar.gz PackageFileSize: 1.865 MiB