Package: scDblFinder Version: 1.23.3 Command: rm -rf scDblFinder.buildbin-libdir && mkdir scDblFinder.buildbin-libdir && F:\biocbuild\bbs-3.22-bioc\R\bin\R.exe CMD INSTALL --build --library=scDblFinder.buildbin-libdir scDblFinder_1.23.3.tar.gz StartedAt: 2025-08-15 11:14:39 -0400 (Fri, 15 Aug 2025) EndedAt: 2025-08-15 11:15:53 -0400 (Fri, 15 Aug 2025) EllapsedTime: 74.1 seconds RetCode: 0 Status: OK PackageFile: scDblFinder_1.23.3.zip PackageFileSize: 2.057 MiB