Package: scClassify Version: 1.21.0 Command: /home/biocbuild/R/R/bin/R CMD INSTALL scClassify StartedAt: 2025-10-23 20:52:04 -0000 (Thu, 23 Oct 2025) EndedAt: 2025-10-23 20:52:53 -0000 (Thu, 23 Oct 2025) EllapsedTime: 49.6 seconds RetCode: 0 Status: OK