Package: scClassify Version: 1.21.0 Command: /home/biocbuild/bbs-3.22-bioc/R/bin/R CMD INSTALL scClassify StartedAt: 2025-10-27 15:33:28 -0400 (Mon, 27 Oct 2025) EndedAt: 2025-10-27 15:34:05 -0400 (Mon, 27 Oct 2025) EllapsedTime: 37.1 seconds RetCode: 0 Status: OK