Package: scClassify Version: 1.21.0 Command: /Library/Frameworks/R.framework/Resources/bin/R CMD INSTALL scClassify StartedAt: 2025-10-27 15:31:42 -0400 (Mon, 27 Oct 2025) EndedAt: 2025-10-27 15:32:33 -0400 (Mon, 27 Oct 2025) EllapsedTime: 50.8 seconds RetCode: 0 Status: OK