Package: scCB2 Version: 1.20.0 Command: /home/biocbuild/R/R/bin/R CMD check --install=check:scCB2.install-out.txt --library=/home/biocbuild/R/R/site-library --no-vignettes --timings scCB2_1.20.0.tar.gz StartedAt: 2025-11-18 14:41:08 -0000 (Tue, 18 Nov 2025) EndedAt: 2025-11-18 14:53:23 -0000 (Tue, 18 Nov 2025) EllapsedTime: 735.3 seconds RetCode: 0 Status: OK CheckDir: scCB2.Rcheck Warnings: 0