Package: scCB2 Version: 1.19.0 Command: chmod a+r scCB2 -R && F:\biocbuild\bbs-3.22-bioc\R\bin\R.exe CMD build --keep-empty-dirs --no-resave-data scCB2 StartedAt: 2025-08-14 23:01:30 -0400 (Thu, 14 Aug 2025) EndedAt: 2025-08-14 23:06:29 -0400 (Thu, 14 Aug 2025) EllapsedTime: 298.1 seconds RetCode: 0 Status: OK PackageFile: scCB2_1.19.0.tar.gz PackageFileSize: 847.2 KiB