Package: scBFA Version: 1.23.0 Command: /home/biocbuild/R/R/bin/R CMD build --keep-empty-dirs --no-resave-data scBFA StartedAt: 2025-10-17 04:17:45 -0000 (Fri, 17 Oct 2025) EndedAt: 2025-10-17 04:19:23 -0000 (Fri, 17 Oct 2025) EllapsedTime: 98.1 seconds RetCode: 0 Status: OK PackageFile: scBFA_1.23.0.tar.gz PackageFileSize: 990.3 KiB