Package: scBFA Version: 1.23.0 Command: /Library/Frameworks/R.framework/Resources/bin/R CMD check --install=check:scBFA.install-out.txt --library=/Library/Frameworks/R.framework/Resources/library --no-vignettes --timings scBFA_1.23.0.tar.gz StartedAt: 2025-10-19 21:49:00 -0400 (Sun, 19 Oct 2025) EndedAt: 2025-10-19 21:51:07 -0400 (Sun, 19 Oct 2025) EllapsedTime: 127.4 seconds RetCode: 0 Status: OK CheckDir: scBFA.Rcheck Warnings: 0