Package: scBFA Version: 1.23.0 Maintainer: Ruoxin Li MaintainerEmail: uskli at ucdavis.edu git_url: https://git.bioconductor.org/packages/scBFA git_branch: devel git_last_commit: ea1ad79 git_last_commit_date: 2025-04-15 11:48:27 -0400 (Tue, 15 Apr 2025)