Package: saseR Version: 1.5.1 Command: F:\biocbuild\bbs-3.22-bioc\R\bin\R.exe CMD check --no-multiarch --install=check:saseR.install-out.txt --library=F:\biocbuild\bbs-3.22-bioc\R\library --no-vignettes --timings saseR_1.5.1.tar.gz StartedAt: 2025-08-15 07:25:36 -0400 (Fri, 15 Aug 2025) EndedAt: 2025-08-15 07:34:52 -0400 (Fri, 15 Aug 2025) EllapsedTime: 556.1 seconds RetCode: 0 Status: WARNINGS CheckDir: saseR.Rcheck Warnings: 1