Package: saseR Version: 1.5.1 Command: /home/biocbuild/bbs-3.22-bioc/R/bin/R CMD INSTALL saseR StartedAt: 2025-10-20 15:46:20 -0400 (Mon, 20 Oct 2025) EndedAt: 2025-10-20 15:47:17 -0400 (Mon, 20 Oct 2025) EllapsedTime: 57.7 seconds RetCode: 0 Status: OK