Package: saseR Version: 1.5.1 Command: /home/biocbuild/bbs-3.22-bioc/R/bin/R CMD check --install=check:saseR.install-out.txt --library=/home/biocbuild/bbs-3.22-bioc/R/site-library --timings saseR_1.5.1.tar.gz StartedAt: 2025-10-21 04:10:09 -0400 (Tue, 21 Oct 2025) EndedAt: 2025-10-21 04:21:11 -0400 (Tue, 21 Oct 2025) EllapsedTime: 661.9 seconds RetCode: 0 Status: WARNINGS CheckDir: saseR.Rcheck Warnings: 1