Package: saseR Version: 1.5.1 Command: /home/biocbuild/bbs-3.22-bioc/R/bin/R CMD build --keep-empty-dirs --no-resave-data --md5 saseR StartedAt: 2025-10-20 19:43:07 -0400 (Mon, 20 Oct 2025) EndedAt: 2025-10-20 19:47:18 -0400 (Mon, 20 Oct 2025) EllapsedTime: 251.2 seconds RetCode: 0 Status: OK PackageFile: saseR_1.5.1.tar.gz PackageFileSize: 1.209 MiB