Package: sarks Version: 1.22.0 Command: /Library/Frameworks/R.framework/Resources/bin/R CMD check --install=check:sarks.install-out.txt --library=/Library/Frameworks/R.framework/Resources/library --no-vignettes --timings sarks_1.22.0.tar.gz StartedAt: 2025-11-03 23:58:53 -0500 (Mon, 03 Nov 2025) EndedAt: 2025-11-04 00:00:30 -0500 (Tue, 04 Nov 2025) EllapsedTime: 97.7 seconds RetCode: 0 Status: OK CheckDir: sarks.Rcheck Warnings: 0