Package: sarks Version: 1.22.0 Command: rm -rf sarks.buildbin-libdir && mkdir sarks.buildbin-libdir && /Users/biocbuild/BBS/utils/build-universal.sh sarks_1.22.0.tar.gz /Library/Frameworks/R.framework/Resources/bin/R sarks.buildbin-libdir StartedAt: 2025-11-03 02:02:08 -0500 (Mon, 03 Nov 2025) EndedAt: 2025-11-03 02:02:27 -0500 (Mon, 03 Nov 2025) EllapsedTime: 19.6 seconds RetCode: 0 Status: OK PackageFile: sarks_1.22.0.tgz PackageFileSize: 775.1 KiB