Package: sangeranalyseR Version: 1.19.0 Command: F:\biocbuild\bbs-3.22-bioc\R\bin\R.exe CMD check --no-multiarch --install=check:sangeranalyseR.install-out.txt --library=F:\biocbuild\bbs-3.22-bioc\R\library --no-vignettes --timings sangeranalyseR_1.19.0.tar.gz StartedAt: 2025-08-15 07:24:58 -0400 (Fri, 15 Aug 2025) EndedAt: 2025-08-15 07:29:46 -0400 (Fri, 15 Aug 2025) EllapsedTime: 288.7 seconds RetCode: 0 Status: WARNINGS CheckDir: sangeranalyseR.Rcheck Warnings: 6