Package: sangeranalyseR Version: 1.19.0 Command: rm -rf sangeranalyseR.buildbin-libdir && mkdir sangeranalyseR.buildbin-libdir && F:\biocbuild\bbs-3.22-bioc\R\bin\R.exe CMD INSTALL --build --library=sangeranalyseR.buildbin-libdir sangeranalyseR_1.19.0.tar.gz StartedAt: 2025-08-15 11:13:02 -0400 (Fri, 15 Aug 2025) EndedAt: 2025-08-15 11:17:30 -0400 (Fri, 15 Aug 2025) EllapsedTime: 268.7 seconds RetCode: 0 Status: OK PackageFile: sangeranalyseR_1.19.0.zip PackageFileSize: 5.787 MiB