Package: sampleClassifier Version: 1.33.0 Command: /Library/Frameworks/R.framework/Resources/bin/R CMD INSTALL sampleClassifier StartedAt: 2025-10-21 15:10:32 -0400 (Tue, 21 Oct 2025) EndedAt: 2025-10-21 15:10:39 -0400 (Tue, 21 Oct 2025) EllapsedTime: 6.9 seconds RetCode: 0 Status: OK