Package: sampleClassifier Version: 1.33.0 Command: /Library/Frameworks/R.framework/Resources/bin/R CMD build --keep-empty-dirs --no-resave-data sampleClassifier StartedAt: 2025-10-21 17:37:02 -0400 (Tue, 21 Oct 2025) EndedAt: 2025-10-21 17:38:00 -0400 (Tue, 21 Oct 2025) EllapsedTime: 57.7 seconds RetCode: 0 Status: OK PackageFile: sampleClassifier_1.33.0.tar.gz PackageFileSize: 238.7 KiB