Package: safe Version: 3.49.0 Command: /home/biocbuild/R/R/bin/R CMD build --keep-empty-dirs --no-resave-data safe StartedAt: 2025-10-17 04:13:09 -0000 (Fri, 17 Oct 2025) EndedAt: 2025-10-17 04:18:18 -0000 (Fri, 17 Oct 2025) EllapsedTime: 309.2 seconds RetCode: 0 Status: OK PackageFile: safe_3.49.0.tar.gz PackageFileSize: 699.1 KiB