Package: safe Version: 3.49.0 Command: /home/biocbuild/bbs-3.22-bioc/R/bin/R CMD INSTALL safe StartedAt: 2025-10-19 15:59:01 -0400 (Sun, 19 Oct 2025) EndedAt: 2025-10-19 15:59:16 -0400 (Sun, 19 Oct 2025) EllapsedTime: 14.5 seconds RetCode: 0 Status: OK