Package: safe Version: 3.49.0 Command: /home/biocbuild/bbs-3.22-bioc/R/bin/R CMD build --keep-empty-dirs --no-resave-data --md5 safe StartedAt: 2025-10-19 19:46:40 -0400 (Sun, 19 Oct 2025) EndedAt: 2025-10-19 19:50:26 -0400 (Sun, 19 Oct 2025) EllapsedTime: 225.2 seconds RetCode: 0 Status: OK PackageFile: safe_3.49.0.tar.gz PackageFileSize: 715.4 KiB