Package: safe Version: 3.49.0 Command: /Library/Frameworks/R.framework/Resources/bin/R CMD INSTALL safe StartedAt: 2025-10-19 15:49:17 -0400 (Sun, 19 Oct 2025) EndedAt: 2025-10-19 15:49:39 -0400 (Sun, 19 Oct 2025) EllapsedTime: 21.5 seconds RetCode: 0 Status: OK