Package: safe Version: 3.49.0 Command: /Library/Frameworks/R.framework/Resources/bin/R CMD check --install=check:safe.install-out.txt --library=/Library/Frameworks/R.framework/Resources/library --no-vignettes --timings safe_3.49.0.tar.gz StartedAt: 2025-10-20 01:21:22 -0400 (Mon, 20 Oct 2025) EndedAt: 2025-10-20 01:23:13 -0400 (Mon, 20 Oct 2025) EllapsedTime: 110.2 seconds RetCode: 0 Status: OK CheckDir: safe.Rcheck Warnings: 0