Package: safe Version: 3.49.0 Command: /Library/Frameworks/R.framework/Resources/bin/R CMD build --keep-empty-dirs --no-resave-data safe StartedAt: 2025-10-19 17:33:15 -0400 (Sun, 19 Oct 2025) EndedAt: 2025-10-19 17:35:05 -0400 (Sun, 19 Oct 2025) EllapsedTime: 110.3 seconds RetCode: 0 Status: OK PackageFile: safe_3.49.0.tar.gz PackageFileSize: 713.7 KiB