Package: sSeq Version: 1.47.0 Command: /home/biocbuild/R/R/bin/R CMD INSTALL sSeq StartedAt: 2025-10-16 21:11:34 -0000 (Thu, 16 Oct 2025) EndedAt: 2025-10-16 21:12:08 -0000 (Thu, 16 Oct 2025) EllapsedTime: 33.6 seconds RetCode: 0 Status: OK