Package: sSeq Version: 1.47.0 Command: chmod a+r sSeq -R && F:\biocbuild\bbs-3.22-bioc\R\bin\R.exe CMD build --keep-empty-dirs --no-resave-data sSeq StartedAt: 2025-08-14 23:35:31 -0400 (Thu, 14 Aug 2025) EndedAt: 2025-08-14 23:37:38 -0400 (Thu, 14 Aug 2025) EllapsedTime: 127.1 seconds RetCode: 0 Status: OK PackageFile: sSeq_1.47.0.tar.gz PackageFileSize: 4.203 MiB