Package: sSeq Version: 1.47.0 Command: /Library/Frameworks/R.framework/Resources/bin/R CMD INSTALL sSeq StartedAt: 2025-10-19 15:08:11 -0400 (Sun, 19 Oct 2025) EndedAt: 2025-10-19 15:08:50 -0400 (Sun, 19 Oct 2025) EllapsedTime: 38.7 seconds RetCode: 0 Status: OK