Package: sSeq Version: 1.47.0 Command: /Library/Frameworks/R.framework/Resources/bin/R CMD check --install=check:sSeq.install-out.txt --library=/Library/Frameworks/R.framework/Resources/library --no-vignettes --timings sSeq_1.47.0.tar.gz StartedAt: 2025-10-20 02:03:05 -0400 (Mon, 20 Oct 2025) EndedAt: 2025-10-20 02:06:03 -0400 (Mon, 20 Oct 2025) EllapsedTime: 178.0 seconds RetCode: 0 Status: OK CheckDir: sSeq.Rcheck Warnings: 0