Package: sRACIPE Version: 2.1.1 Command: F:\biocbuild\bbs-3.22-bioc\R\bin\R.exe CMD check --no-multiarch --install=check:sRACIPE.install-out.txt --library=F:\biocbuild\bbs-3.22-bioc\R\library --no-vignettes --timings sRACIPE_2.1.1.tar.gz StartedAt: 2025-08-15 08:23:45 -0400 (Fri, 15 Aug 2025) EndedAt: 2025-08-15 08:28:05 -0400 (Fri, 15 Aug 2025) EllapsedTime: 260.3 seconds RetCode: 0 Status: OK CheckDir: sRACIPE.Rcheck Warnings: 0