Package: sRACIPE Version: 2.1.1 Command: chmod a+r sRACIPE -R && F:\biocbuild\bbs-3.22-bioc\R\bin\R.exe CMD build --keep-empty-dirs --no-resave-data sRACIPE StartedAt: 2025-08-14 23:34:55 -0400 (Thu, 14 Aug 2025) EndedAt: 2025-08-14 23:36:36 -0400 (Thu, 14 Aug 2025) EllapsedTime: 101.7 seconds RetCode: 0 Status: OK PackageFile: sRACIPE_2.1.1.tar.gz PackageFileSize: 1.677 MiB