Package: sRACIPE Version: 2.1.1 Command: rm -rf sRACIPE.buildbin-libdir && mkdir sRACIPE.buildbin-libdir && F:\biocbuild\bbs-3.22-bioc\R\bin\R.exe CMD INSTALL --build --library=sRACIPE.buildbin-libdir sRACIPE_2.1.1.tar.gz StartedAt: 2025-08-15 11:25:35 -0400 (Fri, 15 Aug 2025) EndedAt: 2025-08-15 11:26:57 -0400 (Fri, 15 Aug 2025) EllapsedTime: 81.9 seconds RetCode: 0 Status: OK PackageFile: sRACIPE_2.1.1.zip PackageFileSize: 1.113 MiB