Package: sRACIPE Version: 2.1.1 Command: /Library/Frameworks/R.framework/Resources/bin/R CMD INSTALL sRACIPE StartedAt: 2025-10-19 15:11:06 -0400 (Sun, 19 Oct 2025) EndedAt: 2025-10-19 15:11:25 -0400 (Sun, 19 Oct 2025) EllapsedTime: 18.9 seconds RetCode: 0 Status: OK