Package: sRACIPE Version: 2.1.1 Command: /Library/Frameworks/R.framework/Resources/bin/R CMD check --install=check:sRACIPE.install-out.txt --library=/Library/Frameworks/R.framework/Resources/library --no-vignettes --timings sRACIPE_2.1.1.tar.gz StartedAt: 2025-10-19 22:16:12 -0400 (Sun, 19 Oct 2025) EndedAt: 2025-10-19 22:17:31 -0400 (Sun, 19 Oct 2025) EllapsedTime: 78.9 seconds RetCode: 0 Status: OK CheckDir: sRACIPE.Rcheck Warnings: 0