Package: runibic Version: 1.31.0 Command: /home/biocbuild/R/R/bin/R CMD INSTALL runibic StartedAt: 2025-10-23 21:00:30 -0000 (Thu, 23 Oct 2025) EndedAt: 2025-10-23 21:01:20 -0000 (Thu, 23 Oct 2025) EllapsedTime: 50.8 seconds RetCode: 0 Status: OK