Package: runibic Version: 1.31.0 Command: /home/biocbuild/R/R/bin/R CMD build --keep-empty-dirs --no-resave-data runibic StartedAt: 2025-10-21 02:42:59 -0000 (Tue, 21 Oct 2025) EndedAt: 2025-10-21 02:43:53 -0000 (Tue, 21 Oct 2025) EllapsedTime: 54.0 seconds RetCode: 0 Status: OK PackageFile: runibic_1.31.0.tar.gz PackageFileSize: 45.65 KiB