Package: rtracklayer Version: 1.69.1 Command: /home/biocbuild/R/R/bin/R CMD INSTALL rtracklayer StartedAt: 2025-10-16 21:39:55 -0000 (Thu, 16 Oct 2025) EndedAt: 2025-10-16 21:41:04 -0000 (Thu, 16 Oct 2025) EllapsedTime: 68.8 seconds RetCode: 0 Status: OK