Package: rtracklayer Version: 1.69.1 Command: /home/biocbuild/R/R/bin/R CMD check --install=check:rtracklayer.install-out.txt --library=/home/biocbuild/R/R/site-library --no-vignettes --timings rtracklayer_1.69.1.tar.gz StartedAt: 2025-10-17 13:05:19 -0000 (Fri, 17 Oct 2025) EndedAt: 2025-10-17 13:13:03 -0000 (Fri, 17 Oct 2025) EllapsedTime: 463.9 seconds RetCode: 0 Status: WARNINGS CheckDir: rtracklayer.Rcheck Warnings: 2