Package: rtracklayer Version: 1.69.1 Command: rm -rf rtracklayer.buildbin-libdir && mkdir rtracklayer.buildbin-libdir && F:\biocbuild\bbs-3.22-bioc\R\bin\R.exe CMD INSTALL --build --library=rtracklayer.buildbin-libdir rtracklayer_1.69.1.tar.gz StartedAt: 2025-08-15 11:12:00 -0400 (Fri, 15 Aug 2025) EndedAt: 2025-08-15 11:17:24 -0400 (Fri, 15 Aug 2025) EllapsedTime: 324.3 seconds RetCode: 0 Status: OK PackageFile: rtracklayer_1.69.1.zip PackageFileSize: 9.657 MiB