Package: rtracklayer Version: 1.69.1 Command: /home/biocbuild/bbs-3.22-bioc/R/bin/R CMD INSTALL rtracklayer StartedAt: 2025-10-20 15:24:39 -0400 (Mon, 20 Oct 2025) EndedAt: 2025-10-20 15:25:27 -0400 (Mon, 20 Oct 2025) EllapsedTime: 48.9 seconds RetCode: 0 Status: OK