Package: rtracklayer Version: 1.69.1 Command: /Library/Frameworks/R.framework/Resources/bin/R CMD INSTALL rtracklayer StartedAt: 2025-10-19 15:27:20 -0400 (Sun, 19 Oct 2025) EndedAt: 2025-10-19 15:28:33 -0400 (Sun, 19 Oct 2025) EllapsedTime: 72.9 seconds RetCode: 0 Status: OK