Package: rtracklayer Version: 1.69.1 Command: /Library/Frameworks/R.framework/Resources/bin/R CMD check --install=check:rtracklayer.install-out.txt --library=/Library/Frameworks/R.framework/Resources/library --no-vignettes --timings rtracklayer_1.69.1.tar.gz StartedAt: 2025-10-20 01:19:30 -0400 (Mon, 20 Oct 2025) EndedAt: 2025-10-20 01:26:27 -0400 (Mon, 20 Oct 2025) EllapsedTime: 416.7 seconds RetCode: 0 Status: WARNINGS CheckDir: rtracklayer.Rcheck Warnings: 2